BEGIN:VCALENDAR
VERSION:2.0
PRODID:-//FutureLeaders - ECPv6.15.20//NONSGML v1.0//EN
CALSCALE:GREGORIAN
METHOD:PUBLISH
X-WR-CALNAME:FutureLeaders
X-ORIGINAL-URL:https://futureleaders.asia
X-WR-CALDESC:Events for FutureLeaders
REFRESH-INTERVAL;VALUE=DURATION:PT1H
X-Robots-Tag:noindex
X-PUBLISHED-TTL:PT1H
BEGIN:VTIMEZONE
TZID:UTC
BEGIN:STANDARD
TZOFFSETFROM:+0000
TZOFFSETTO:+0000
TZNAME:UTC
DTSTART:20210101T000000
END:STANDARD
END:VTIMEZONE
BEGIN:VEVENT
DTSTART;TZID=UTC:20221102T080000
DTEND;TZID=UTC:20221102T170000
DTSTAMP:20260418T081058
CREATED:20221101T103604Z
LAST-MODIFIED:20221101T103604Z
UID:1123-1667376000-1667408400@futureleaders.asia
SUMMARY:Test  evet
DESCRIPTION:sdfsadfasdf
URL:https://futureleaders.asia/event/test-evet/
LOCATION:Universal College Bangladesh\, 23/14\, mirpur\,dhaka Dhaka Dhaka\,BD\, Dhaka\, GULSAHN\, 1216\, Bangladesh
CATEGORIES:Upcoming
ATTACH;FMTTYPE=image/jpeg:https://futureleaders.asia/wp-content/uploads/2022/11/ifo3.jpg
ORGANIZER;CN="BOLD":MAILTO:tanvirhasanbcse@gmail.com
END:VEVENT
END:VCALENDAR